BEGIN:VCALENDAR
VERSION:2.0
PRODID:-//Repair Café Pignan - ECPv6.15.20//NONSGML v1.0//EN
CALSCALE:GREGORIAN
METHOD:PUBLISH
X-WR-CALNAME:Repair Café Pignan
X-ORIGINAL-URL:https://repaircafepignan.fr
X-WR-CALDESC:Évènements pour Repair Café Pignan
REFRESH-INTERVAL;VALUE=DURATION:PT1H
X-Robots-Tag:noindex
X-PUBLISHED-TTL:PT1H
BEGIN:VTIMEZONE
TZID:Europe/Paris
BEGIN:DAYLIGHT
TZOFFSETFROM:+0100
TZOFFSETTO:+0200
TZNAME:CEST
DTSTART:20230326T010000
END:DAYLIGHT
BEGIN:STANDARD
TZOFFSETFROM:+0200
TZOFFSETTO:+0100
TZNAME:CET
DTSTART:20231029T010000
END:STANDARD
BEGIN:DAYLIGHT
TZOFFSETFROM:+0100
TZOFFSETTO:+0200
TZNAME:CEST
DTSTART:20240331T010000
END:DAYLIGHT
BEGIN:STANDARD
TZOFFSETFROM:+0200
TZOFFSETTO:+0100
TZNAME:CET
DTSTART:20241027T010000
END:STANDARD
BEGIN:DAYLIGHT
TZOFFSETFROM:+0100
TZOFFSETTO:+0200
TZNAME:CEST
DTSTART:20250330T010000
END:DAYLIGHT
BEGIN:STANDARD
TZOFFSETFROM:+0200
TZOFFSETTO:+0100
TZNAME:CET
DTSTART:20251026T010000
END:STANDARD
END:VTIMEZONE
BEGIN:VEVENT
DTSTART;TZID=Europe/Paris:20241102T090000
DTEND;TZID=Europe/Paris:20241102T113000
DTSTAMP:20260423T145831
CREATED:20240412T163909Z
LAST-MODIFIED:20250321T160052Z
UID:1011-1730538000-1730547000@repaircafepignan.fr
SUMMARY:Repair Café Pignan
DESCRIPTION:Cet atelier se terminera à 11h30 exceptionnellement – la salle étant louée après.
URL:https://repaircafepignan.fr/evenement/repair-cafe-pignan-11/
LOCATION:Salle Charles BARBER\, Salle Charles BARBER\, Avenue de l'Europe\, PIGNAN\, Occitanie\, 34570\, France
CATEGORIES:Ateliers
END:VEVENT
BEGIN:VEVENT
DTSTART;TZID=Europe/Paris:20241109T100000
DTEND;TZID=Europe/Paris:20241109T123000
DTSTAMP:20260423T145831
CREATED:20240728T095231Z
LAST-MODIFIED:20250321T160039Z
UID:1087-1731146400-1731155400@repaircafepignan.fr
SUMMARY:Réparothèque de Lattes
DESCRIPTION:
URL:https://repaircafepignan.fr/evenement/reparotheque-de-lattes-12/
LOCATION:Espace FORTON – Lattes\, avenue de Montpellier (entre médiathèque et mairie)\, Lattes\, 34970
CATEGORIES:Ateliers
END:VEVENT
BEGIN:VEVENT
DTSTART;TZID=Europe/Paris:20241116T090000
DTEND;TZID=Europe/Paris:20241116T120000
DTSTAMP:20260423T145831
CREATED:20240728T094647Z
LAST-MODIFIED:20250321T155511Z
UID:1076-1731747600-1731758400@repaircafepignan.fr
SUMMARY:Repair Café Grand Montpellier
DESCRIPTION:
URL:https://repaircafepignan.fr/evenement/repair-cafe-grand-montpellier-7/
CATEGORIES:Ateliers
END:VEVENT
END:VCALENDAR